BEGIN:VCALENDAR
VERSION:2.0
PRODID:-//Chukkala&#039;s Charitable Trust - ECPv6.15.20//NONSGML v1.0//EN
CALSCALE:GREGORIAN
METHOD:PUBLISH
X-WR-CALNAME:Chukkala&#039;s Charitable Trust
X-ORIGINAL-URL:https://sascct.org
X-WR-CALDESC:Events for Chukkala&#039;s Charitable Trust
REFRESH-INTERVAL;VALUE=DURATION:PT1H
X-Robots-Tag:noindex
X-PUBLISHED-TTL:PT1H
BEGIN:VTIMEZONE
TZID:UTC
BEGIN:STANDARD
TZOFFSETFROM:+0000
TZOFFSETTO:+0000
TZNAME:UTC
DTSTART:20240101T000000
END:STANDARD
END:VTIMEZONE
BEGIN:VEVENT
DTSTART;TZID=UTC:20250909T080000
DTEND;TZID=UTC:20250913T170000
DTSTAMP:20260420T231843
CREATED:20250909T015458Z
LAST-MODIFIED:20250808T064855Z
UID:3223-1757404800-1757782800@sascct.org
SUMMARY:Srivari Kalyanotsavam in South Africa
DESCRIPTION:
URL:https://sascct.org/event/srivari-kalyanotsavam-in-south-africa/
LOCATION:Divyangjan Divya Darshanam\, Tirupathi\, Tirumala\, India
CATEGORIES:Soppana Padayathra
ATTACH;FMTTYPE=image/webp:https://sascct.org/wp-content/uploads/2024/11/d6.webp
END:VEVENT
BEGIN:VEVENT
DTSTART;VALUE=DATE:20250909
DTEND;VALUE=DATE:20250914
DTSTAMP:20260420T231843
CREATED:20250909T123933Z
LAST-MODIFIED:20250808T064934Z
UID:2015-1757376000-1757807999@sascct.org
SUMMARY:Free Srivari Darshan to Fulfill Dreams for Who's First Time visit to Tirumala
DESCRIPTION:Free Tirumala Srivari Darshan to Fulfill Lifelong Dream for FIRST TIME VISITORS.. \nDr.Venu Chukkala as he leads the Tirupathi Tirumala Climb\, marking his 350th Srivari Metlu ascent.
URL:https://sascct.org/event/free-srivari-darshan-to-fulfill-dreams-for-first-time-visit-to-tirumala/
LOCATION:Divyangjan Divya Darshanam\, Tirupathi\, Tirumala\, India
CATEGORIES:Soppana Padayathra
ATTACH;FMTTYPE=image/webp:https://sascct.org/wp-content/uploads/2024/11/Evvent-1.webp
END:VEVENT
BEGIN:VEVENT
DTSTART;VALUE=DATE:20250909
DTEND;VALUE=DATE:20250914
DTSTAMP:20260420T231843
CREATED:20250909T013828Z
LAST-MODIFIED:20250808T064253Z
UID:3220-1757376000-1757807999@sascct.org
SUMMARY:Srivari Divya Prasadamulu-Book Launch by Dr. AV Ramana Dikshitulu gaaru
DESCRIPTION:Srivari Divya Prasadamulu-Book Launch by Dr. AV Ramana Dikshitulu gaaru – Pradhana Archaka & Agama Advisor\, TTD.
URL:https://sascct.org/event/srivari-divya-prasadamulu-book-launch-by-dr-av-ramana-dikshitulu-gaaru/
LOCATION:Divyangjan Divya Darshanam\, Tirupathi\, Tirumala\, India
CATEGORIES:Soppana Padayathra
ATTACH;FMTTYPE=image/jpeg:https://sascct.org/wp-content/uploads/2025/01/352sopanapadayatra3.jpg
END:VEVENT
BEGIN:VEVENT
DTSTART;VALUE=DATE:20250909
DTEND;VALUE=DATE:20250914
DTSTAMP:20260420T231843
CREATED:20250909T013328Z
LAST-MODIFIED:20250808T064800Z
UID:3217-1757376000-1757807999@sascct.org
SUMMARY:108 Naamalu through the SCIENTIST PREIST Youtube Channel
DESCRIPTION:
URL:https://sascct.org/event/108-naamalu-through-the-scientist-preist-youtube-channel/
LOCATION:Divyangjan Divya Darshanam\, Tirupathi\, Tirumala\, India
CATEGORIES:Soppana Padayathra
ATTACH;FMTTYPE=image/webp:https://sascct.org/wp-content/uploads/2024/12/351sopanapadayathra6.webp
END:VEVENT
BEGIN:VEVENT
DTSTART;VALUE=DATE:20250909
DTEND;VALUE=DATE:20250914
DTSTAMP:20260420T231843
CREATED:20250909T012502Z
LAST-MODIFIED:20250808T064137Z
UID:3211-1757376000-1757807999@sascct.org
SUMMARY:Soppana Padayathra from Kodangal constituency
DESCRIPTION:
URL:https://sascct.org/event/soppana-padayathra-from-kodangal-constituency/
LOCATION:Divyangjan Divya Darshanam\, Tirupathi\, Tirumala\, India
CATEGORIES:Soppana Padayathra
ATTACH;FMTTYPE=image/webp:https://sascct.org/wp-content/uploads/2025/02/kodangal.webp
END:VEVENT
BEGIN:VEVENT
DTSTART;VALUE=DATE:20250909
DTEND;VALUE=DATE:20250914
DTSTAMP:20260420T231843
CREATED:20250909T012205Z
LAST-MODIFIED:20250807T171524Z
UID:3208-1757376000-1757807999@sascct.org
SUMMARY:Soppana Padayathra from Kuppam constituency
DESCRIPTION:
URL:https://sascct.org/event/soppana-padayathra-from-kuppam-constituency/
LOCATION:Divyangjan Divya Darshanam\, Tirupathi\, Tirumala\, India
CATEGORIES:Soppana Padayathra
ATTACH;FMTTYPE=image/webp:https://sascct.org/wp-content/uploads/2025/02/kuppam.webp
END:VEVENT
BEGIN:VEVENT
DTSTART;VALUE=DATE:20250909
DTEND;VALUE=DATE:20250914
DTSTAMP:20260420T231843
CREATED:20250909T011804Z
LAST-MODIFIED:20250808T064048Z
UID:3205-1757376000-1757807999@sascct.org
SUMMARY:Soppana Padayathra from Gujarat (Vadanagar)
DESCRIPTION:
URL:https://sascct.org/event/soppana-padayathra-from-gujarat-vadanagar/
LOCATION:Divyangjan Divya Darshanam\, Tirupathi\, Tirumala\, India
CATEGORIES:Soppana Padayathra
ATTACH;FMTTYPE=image/webp:https://sascct.org/wp-content/uploads/2025/02/AYODYA.webp
END:VEVENT
END:VCALENDAR